BEGIN:VCALENDAR
VERSION:2.0
PRODID:-//Urheiluseura Hatsina ry - ECPv6.15.14//NONSGML v1.0//EN
CALSCALE:GREGORIAN
METHOD:PUBLISH
X-WR-CALNAME:Urheiluseura Hatsina ry
X-ORIGINAL-URL:https://hatsinasalibandy.fi
X-WR-CALDESC:Tapahtumat Urheiluseura Hatsina ry
REFRESH-INTERVAL;VALUE=DURATION:PT1H
X-Robots-Tag:noindex
X-PUBLISHED-TTL:PT1H
BEGIN:VTIMEZONE
TZID:Europe/Helsinki
BEGIN:DAYLIGHT
TZOFFSETFROM:+0200
TZOFFSETTO:+0300
TZNAME:EEST
DTSTART:20230326T010000
END:DAYLIGHT
BEGIN:STANDARD
TZOFFSETFROM:+0300
TZOFFSETTO:+0200
TZNAME:EET
DTSTART:20231029T010000
END:STANDARD
BEGIN:DAYLIGHT
TZOFFSETFROM:+0200
TZOFFSETTO:+0300
TZNAME:EEST
DTSTART:20240331T010000
END:DAYLIGHT
BEGIN:STANDARD
TZOFFSETFROM:+0300
TZOFFSETTO:+0200
TZNAME:EET
DTSTART:20241027T010000
END:STANDARD
BEGIN:DAYLIGHT
TZOFFSETFROM:+0200
TZOFFSETTO:+0300
TZNAME:EEST
DTSTART:20250330T010000
END:DAYLIGHT
BEGIN:STANDARD
TZOFFSETFROM:+0300
TZOFFSETTO:+0200
TZNAME:EET
DTSTART:20251026T010000
END:STANDARD
END:VTIMEZONE
BEGIN:VEVENT
DTSTART;TZID=Europe/Helsinki:20241012T000000
DTEND;TZID=Europe/Helsinki:20241012T235959
DTSTAMP:20260420T162131
CREATED:20241108T092029Z
LAST-MODIFIED:20241108T092030Z
UID:4287-1728691200-1728777599@hatsinasalibandy.fi
SUMMARY:Miehet Heinolassa
DESCRIPTION:klo 17.00 SB Heinola – Hatsina
URL:https://hatsinasalibandy.fi/tapahtuma/miehet-heinolassa/
END:VEVENT
BEGIN:VEVENT
DTSTART;TZID=Europe/Helsinki:20241012T080000
DTEND;TZID=Europe/Helsinki:20241012T170000
DTSTAMP:20260420T162131
CREATED:20241109T213259Z
LAST-MODIFIED:20241109T213302Z
UID:4343-1728720000-1728752400@hatsinasalibandy.fi
SUMMARY:P11 kotiturnaus Saimaa Stadiumilla
DESCRIPTION:klo 11.00 Hatsina sininen – MäVi \n\n\n\nklo 11.00 Pelicans SB – SaiPa musta \n\n\n\nklo 11.40 Hatsina musta – MäVi \n\n\n\nklo 11.40 Jenga Team Tiikerit – SaiPa musta \n\n\n\nklo 12.20 Top Team keltainen – Hatsina sininen \n\n\n\nklo 12.20 Pelicans SB – SaiPa keltainen \n\n\n\nklo 13.00 MäVi – SaiPa P10 \n\n\n\nklo 13.00 Hatsina musta – Jenga Team Tiikerit \n\n\n\nklo 13.40 SaiPa musta – Hatsina sininen \n\n\n\nklo 13.40 SaiPa P10 – Pelicans SB P10 \n\n\n\nklo 14.20 Top Team keltainen – Pelicans SB \n\n\n\nklo 14.20 – SaiPa keltainen – BB-88 \n\n\n\nklo 15.00 Jenga Team Tiikerit – SaiPa P10 \n\n\n\nklo 15.00 – SaiPa keltainen – Pelicans SB P10 \n\n\n\nklo 15.40 Pelicans SB P10 – Hatsina musta \n\n\n\nklo 15.40 BB-88 – Top Team keltainen \n\n\n\nklo 16.20 Hatsina sininen – BB-88
URL:https://hatsinasalibandy.fi/tapahtuma/p11-kotiturnaus-saimaa-stadiumilla/
END:VEVENT
END:VCALENDAR