BEGIN:VCALENDAR
VERSION:2.0
PRODID:-//Urheiluseura Hatsina ry - ECPv6.15.14//NONSGML v1.0//EN
CALSCALE:GREGORIAN
METHOD:PUBLISH
X-WR-CALNAME:Urheiluseura Hatsina ry
X-ORIGINAL-URL:https://hatsinasalibandy.fi
X-WR-CALDESC:Tapahtumat Urheiluseura Hatsina ry
REFRESH-INTERVAL;VALUE=DURATION:PT1H
X-Robots-Tag:noindex
X-PUBLISHED-TTL:PT1H
BEGIN:VTIMEZONE
TZID:Europe/Helsinki
BEGIN:DAYLIGHT
TZOFFSETFROM:+0200
TZOFFSETTO:+0300
TZNAME:EEST
DTSTART:20230326T010000
END:DAYLIGHT
BEGIN:STANDARD
TZOFFSETFROM:+0300
TZOFFSETTO:+0200
TZNAME:EET
DTSTART:20231029T010000
END:STANDARD
BEGIN:DAYLIGHT
TZOFFSETFROM:+0200
TZOFFSETTO:+0300
TZNAME:EEST
DTSTART:20240331T010000
END:DAYLIGHT
BEGIN:STANDARD
TZOFFSETFROM:+0300
TZOFFSETTO:+0200
TZNAME:EET
DTSTART:20241027T010000
END:STANDARD
BEGIN:DAYLIGHT
TZOFFSETFROM:+0200
TZOFFSETTO:+0300
TZNAME:EEST
DTSTART:20250330T010000
END:DAYLIGHT
BEGIN:STANDARD
TZOFFSETFROM:+0300
TZOFFSETTO:+0200
TZNAME:EET
DTSTART:20251026T010000
END:STANDARD
END:VTIMEZONE
BEGIN:VEVENT
DTSTART;TZID=Europe/Helsinki:20241027T000000
DTEND;TZID=Europe/Helsinki:20241027T235959
DTSTAMP:20260420T161550
CREATED:20241108T090636Z
LAST-MODIFIED:20241108T090639Z
UID:4269-1729987200-1730073599@hatsinasalibandy.fi
SUMMARY:P17 (P18) Nilsiässä
DESCRIPTION:klo 12.00 Apassit – Hatsina \n\n\n\nklo 14.00 Hatsina – LeBa/Josba
URL:https://hatsinasalibandy.fi/tapahtuma/p17-p18-nilsiassa/
END:VEVENT
BEGIN:VEVENT
DTSTART;TZID=Europe/Helsinki:20241027T000000
DTEND;TZID=Europe/Helsinki:20241027T235959
DTSTAMP:20260420T161550
CREATED:20241108T171331Z
LAST-MODIFIED:20241108T171333Z
UID:4321-1729987200-1730073599@hatsinasalibandy.fi
SUMMARY:P15 Kotkassa
DESCRIPTION:klo 15.00 SaiPa P14 – Hatsina/SB Heinola \n\n\n\nklo 17.00 Hatsina/SB Heinola – Pelicans SB musta
URL:https://hatsinasalibandy.fi/tapahtuma/p15-kotkassa/
END:VEVENT
BEGIN:VEVENT
DTSTART;TZID=Europe/Helsinki:20241027T170000
DTEND;TZID=Europe/Helsinki:20241027T190000
DTSTAMP:20260420T161550
CREATED:20241108T092114Z
LAST-MODIFIED:20241108T092116Z
UID:4289-1730048400-1730055600@hatsinasalibandy.fi
SUMMARY:Miesten kotipeli Saimaa Stadiumilla
DESCRIPTION:klo 17.00 Hatsina – Kyljykset
URL:https://hatsinasalibandy.fi/tapahtuma/miesten-kotipeli-saimaa-stadiumilla-2/
END:VEVENT
END:VCALENDAR