BEGIN:VCALENDAR
VERSION:2.0
PRODID:-//Urheiluseura Hatsina ry - ECPv6.15.14//NONSGML v1.0//EN
CALSCALE:GREGORIAN
METHOD:PUBLISH
X-WR-CALNAME:Urheiluseura Hatsina ry
X-ORIGINAL-URL:https://hatsinasalibandy.fi
X-WR-CALDESC:Tapahtumat Urheiluseura Hatsina ry
REFRESH-INTERVAL;VALUE=DURATION:PT1H
X-Robots-Tag:noindex
X-PUBLISHED-TTL:PT1H
BEGIN:VTIMEZONE
TZID:Europe/Helsinki
BEGIN:DAYLIGHT
TZOFFSETFROM:+0200
TZOFFSETTO:+0300
TZNAME:EEST
DTSTART:20230326T010000
END:DAYLIGHT
BEGIN:STANDARD
TZOFFSETFROM:+0300
TZOFFSETTO:+0200
TZNAME:EET
DTSTART:20231029T010000
END:STANDARD
BEGIN:DAYLIGHT
TZOFFSETFROM:+0200
TZOFFSETTO:+0300
TZNAME:EEST
DTSTART:20240331T010000
END:DAYLIGHT
BEGIN:STANDARD
TZOFFSETFROM:+0300
TZOFFSETTO:+0200
TZNAME:EET
DTSTART:20241027T010000
END:STANDARD
BEGIN:DAYLIGHT
TZOFFSETFROM:+0200
TZOFFSETTO:+0300
TZNAME:EEST
DTSTART:20250330T010000
END:DAYLIGHT
BEGIN:STANDARD
TZOFFSETFROM:+0300
TZOFFSETTO:+0200
TZNAME:EET
DTSTART:20251026T010000
END:STANDARD
END:VTIMEZONE
BEGIN:VEVENT
DTSTART;TZID=Europe/Helsinki:20241102T000000
DTEND;TZID=Europe/Helsinki:20241102T235959
DTSTAMP:20260420T150312
CREATED:20241109T211516Z
LAST-MODIFIED:20241109T211518Z
UID:4337-1730505600-1730591999@hatsinasalibandy.fi
SUMMARY:P12 Savonlinnassa
DESCRIPTION:klo 12.00 Hatsina musta – Kopa jun \n\n\n\nklo 13.00 Voima – Hatsina sininen \n\n\n\nklo 14.00 SaiPa musta – Hatsina musta \n\n\n\nklo 16.00 Hatsina sininen – SaiPa keltamusta
URL:https://hatsinasalibandy.fi/tapahtuma/p12-savonlinnassa/
END:VEVENT
END:VCALENDAR