BEGIN:VCALENDAR
VERSION:2.0
PRODID:-//Urheiluseura Hatsina ry - ECPv6.15.14//NONSGML v1.0//EN
CALSCALE:GREGORIAN
METHOD:PUBLISH
X-ORIGINAL-URL:https://hatsinasalibandy.fi
X-WR-CALDESC:Tapahtumat Urheiluseura Hatsina ry
REFRESH-INTERVAL;VALUE=DURATION:PT1H
X-Robots-Tag:noindex
X-PUBLISHED-TTL:PT1H
BEGIN:VTIMEZONE
TZID:Europe/Helsinki
BEGIN:DAYLIGHT
TZOFFSETFROM:+0200
TZOFFSETTO:+0300
TZNAME:EEST
DTSTART:20240331T010000
END:DAYLIGHT
BEGIN:STANDARD
TZOFFSETFROM:+0300
TZOFFSETTO:+0200
TZNAME:EET
DTSTART:20241027T010000
END:STANDARD
BEGIN:DAYLIGHT
TZOFFSETFROM:+0200
TZOFFSETTO:+0300
TZNAME:EEST
DTSTART:20250330T010000
END:DAYLIGHT
BEGIN:STANDARD
TZOFFSETFROM:+0300
TZOFFSETTO:+0200
TZNAME:EET
DTSTART:20251026T010000
END:STANDARD
BEGIN:DAYLIGHT
TZOFFSETFROM:+0200
TZOFFSETTO:+0300
TZNAME:EEST
DTSTART:20260329T010000
END:DAYLIGHT
BEGIN:STANDARD
TZOFFSETFROM:+0300
TZOFFSETTO:+0200
TZNAME:EET
DTSTART:20261025T010000
END:STANDARD
END:VTIMEZONE
BEGIN:VEVENT
DTSTART;TZID=Europe/Helsinki:20250202T000000
DTEND;TZID=Europe/Helsinki:20250202T235959
DTSTAMP:20260420T183041
CREATED:20250201T221116Z
LAST-MODIFIED:20250201T221118Z
UID:4507-1738454400-1738540799@hatsinasalibandy.fi
SUMMARY:P9 Kouvolassa
DESCRIPTION:Klo 11.40 Hatsina musta – Pelicans SB musta \n\n\n\nKlo 12.20 Hatsina sininen – MäVi musta \n\n\n\nKlo 13.40 Hatsina sininen – SaiPa musta \n\n\n\nKlo 13.40´Hatsina musta – Pelicans SB turkoosi \n\n\n\nKlo 15.00 Hatsina musta – LASB Jr \n\n\n\nKlo 16.20 Hatsina sininen – SaiPa keltainen
URL:https://hatsinasalibandy.fi/tapahtuma/p9-kouvolassa-2/
END:VEVENT
END:VCALENDAR