BEGIN:VCALENDAR
VERSION:2.0
PRODID:-//Urheiluseura Hatsina ry - ECPv6.15.14//NONSGML v1.0//EN
CALSCALE:GREGORIAN
METHOD:PUBLISH
X-WR-CALNAME:Urheiluseura Hatsina ry
X-ORIGINAL-URL:https://hatsinasalibandy.fi
X-WR-CALDESC:Tapahtumat Urheiluseura Hatsina ry
REFRESH-INTERVAL;VALUE=DURATION:PT1H
X-Robots-Tag:noindex
X-PUBLISHED-TTL:PT1H
BEGIN:VTIMEZONE
TZID:Europe/Helsinki
BEGIN:DAYLIGHT
TZOFFSETFROM:+0200
TZOFFSETTO:+0300
TZNAME:EEST
DTSTART:20240331T010000
END:DAYLIGHT
BEGIN:STANDARD
TZOFFSETFROM:+0300
TZOFFSETTO:+0200
TZNAME:EET
DTSTART:20241027T010000
END:STANDARD
BEGIN:DAYLIGHT
TZOFFSETFROM:+0200
TZOFFSETTO:+0300
TZNAME:EEST
DTSTART:20250330T010000
END:DAYLIGHT
BEGIN:STANDARD
TZOFFSETFROM:+0300
TZOFFSETTO:+0200
TZNAME:EET
DTSTART:20251026T010000
END:STANDARD
BEGIN:DAYLIGHT
TZOFFSETFROM:+0200
TZOFFSETTO:+0300
TZNAME:EEST
DTSTART:20260329T010000
END:DAYLIGHT
BEGIN:STANDARD
TZOFFSETFROM:+0300
TZOFFSETTO:+0200
TZNAME:EET
DTSTART:20261025T010000
END:STANDARD
END:VTIMEZONE
BEGIN:VEVENT
DTSTART;TZID=Europe/Helsinki:20250208T000000
DTEND;TZID=Europe/Helsinki:20250208T235959
DTSTAMP:20260420T183911
CREATED:20241108T091451Z
LAST-MODIFIED:20241108T091453Z
UID:4277-1738972800-1739059199@hatsinasalibandy.fi
SUMMARY:P17 (P18) Nilsiässä
DESCRIPTION:klo 12.00 Apassit – Hatsina \n\n\n\nklo 14.00 Hatsina – VarTa
URL:https://hatsinasalibandy.fi/tapahtuma/p17-p18-nilsiassa-3/
END:VEVENT
BEGIN:VEVENT
DTSTART;TZID=Europe/Helsinki:20250208T180000
DTEND;TZID=Europe/Helsinki:20250208T200000
DTSTAMP:20260420T183911
CREATED:20241108T093207Z
LAST-MODIFIED:20241108T093208Z
UID:4311-1739037600-1739044800@hatsinasalibandy.fi
SUMMARY:Miesten kotipeli Saimaa Stadiumilla
DESCRIPTION:klo 18.00 Hatsina – SaiPa akatemia
URL:https://hatsinasalibandy.fi/tapahtuma/miesten-kotipeli-saimaa-stadiumilla-8/
END:VEVENT
END:VCALENDAR