BEGIN:VCALENDAR
VERSION:2.0
PRODID:-//Urheiluseura Hatsina ry - ECPv6.15.14//NONSGML v1.0//EN
CALSCALE:GREGORIAN
METHOD:PUBLISH
X-ORIGINAL-URL:https://hatsinasalibandy.fi
X-WR-CALDESC:Tapahtumat Urheiluseura Hatsina ry
REFRESH-INTERVAL;VALUE=DURATION:PT1H
X-Robots-Tag:noindex
X-PUBLISHED-TTL:PT1H
BEGIN:VTIMEZONE
TZID:Europe/Helsinki
BEGIN:DAYLIGHT
TZOFFSETFROM:+0200
TZOFFSETTO:+0300
TZNAME:EEST
DTSTART:20240331T010000
END:DAYLIGHT
BEGIN:STANDARD
TZOFFSETFROM:+0300
TZOFFSETTO:+0200
TZNAME:EET
DTSTART:20241027T010000
END:STANDARD
BEGIN:DAYLIGHT
TZOFFSETFROM:+0200
TZOFFSETTO:+0300
TZNAME:EEST
DTSTART:20250330T010000
END:DAYLIGHT
BEGIN:STANDARD
TZOFFSETFROM:+0300
TZOFFSETTO:+0200
TZNAME:EET
DTSTART:20251026T010000
END:STANDARD
BEGIN:DAYLIGHT
TZOFFSETFROM:+0200
TZOFFSETTO:+0300
TZNAME:EEST
DTSTART:20260329T010000
END:DAYLIGHT
BEGIN:STANDARD
TZOFFSETFROM:+0300
TZOFFSETTO:+0200
TZNAME:EET
DTSTART:20261025T010000
END:STANDARD
END:VTIMEZONE
BEGIN:VEVENT
DTSTART;TZID=Europe/Helsinki:20251026T100000
DTEND;TZID=Europe/Helsinki:20251026T110000
DTSTAMP:20260422T114515
CREATED:20250929T160757Z
LAST-MODIFIED:20250929T160758Z
UID:4685-1761472800-1761476400@hatsinasalibandy.fi
SUMMARY:P14 TopTeam/Voima - Hatsina
DESCRIPTION:Savonlinnan liikuntahalli\, linkki tulospalveluun
URL:https://hatsinasalibandy.fi/tapahtuma/p14-topteam-voima-hatsina/
END:VEVENT
BEGIN:VEVENT
DTSTART;TZID=Europe/Helsinki:20251026T103000
DTEND;TZID=Europe/Helsinki:20251026T111000
DTSTAMP:20260422T114515
CREATED:20250929T161013Z
LAST-MODIFIED:20250929T161013Z
UID:4687-1761474600-1761477000@hatsinasalibandy.fi
SUMMARY:P10 Hatsina sininen - SaiPa musta
DESCRIPTION:Kallas-talo\, Heinola. Linkki tulospalveluun
URL:https://hatsinasalibandy.fi/tapahtuma/p10-hatsina-sininen-saipa-musta/
END:VEVENT
BEGIN:VEVENT
DTSTART;TZID=Europe/Helsinki:20251026T111000
DTEND;TZID=Europe/Helsinki:20251026T115000
DTSTAMP:20260422T114515
CREATED:20250929T161158Z
LAST-MODIFIED:20250929T161159Z
UID:4689-1761477000-1761479400@hatsinasalibandy.fi
SUMMARY:P10 SaiPa keltainen - Hatsina musta
DESCRIPTION:Kailas-talo\, Heinola. Linkki tulospalveluun
URL:https://hatsinasalibandy.fi/tapahtuma/p10-saipa-keltainen-hatsina-musta/
END:VEVENT
BEGIN:VEVENT
DTSTART;TZID=Europe/Helsinki:20251026T113000
DTEND;TZID=Europe/Helsinki:20251026T123000
DTSTAMP:20260422T114515
CREATED:20250929T161407Z
LAST-MODIFIED:20250929T161431Z
UID:4691-1761478200-1761481800@hatsinasalibandy.fi
SUMMARY:P14 Hatsina - SaiPa
DESCRIPTION:Savonlinnan liikuntahalli\, linkki tulospalveluun
URL:https://hatsinasalibandy.fi/tapahtuma/p10-hatsina-saipa/
END:VEVENT
BEGIN:VEVENT
DTSTART;TZID=Europe/Helsinki:20251026T115000
DTEND;TZID=Europe/Helsinki:20251026T123000
DTSTAMP:20260422T114515
CREATED:20250930T135658Z
LAST-MODIFIED:20250930T135659Z
UID:4695-1761479400-1761481800@hatsinasalibandy.fi
SUMMARY:P10 Pelicans SB musta - Hatsina sininen
DESCRIPTION:Kailas-talo Heinola\, linkki tulospalveluun
URL:https://hatsinasalibandy.fi/tapahtuma/p10-pelicans-sb-musta-hatsina-sininen/
END:VEVENT
BEGIN:VEVENT
DTSTART;TZID=Europe/Helsinki:20251026T123000
DTEND;TZID=Europe/Helsinki:20251026T131000
DTSTAMP:20260422T114515
CREATED:20250930T135900Z
LAST-MODIFIED:20250930T135901Z
UID:4697-1761481800-1761484200@hatsinasalibandy.fi
SUMMARY:P10 Hatsina musta - Kopa jun
DESCRIPTION:Kailas-talo Heinola\, linkki tulospalveluun
URL:https://hatsinasalibandy.fi/tapahtuma/p10-hatsina-musta-kopa-jun/
END:VEVENT
BEGIN:VEVENT
DTSTART;TZID=Europe/Helsinki:20251026T130000
DTEND;TZID=Europe/Helsinki:20251026T143000
DTSTAMP:20260422T114515
CREATED:20250930T140101Z
LAST-MODIFIED:20250930T140102Z
UID:4699-1761483600-1761489000@hatsinasalibandy.fi
SUMMARY:P16 Hatsina/SB Heinola - La Kings
DESCRIPTION:Kisala Mäntyharju\, linkki tulospalveluun
URL:https://hatsinasalibandy.fi/tapahtuma/p16-hatsina-sb-heinola-la-kings/
END:VEVENT
BEGIN:VEVENT
DTSTART;TZID=Europe/Helsinki:20251026T135000
DTEND;TZID=Europe/Helsinki:20251026T142000
DTSTAMP:20260422T114515
CREATED:20250930T140242Z
LAST-MODIFIED:20250930T140243Z
UID:4701-1761486600-1761488400@hatsinasalibandy.fi
SUMMARY:P10 SB Heinola - Hatsina musta
DESCRIPTION:Kailas-talo Heinola\, linkki tulopalveluun
URL:https://hatsinasalibandy.fi/tapahtuma/p10-sb-heinola-hatsina-musta/
END:VEVENT
BEGIN:VEVENT
DTSTART;TZID=Europe/Helsinki:20251026T135000
DTEND;TZID=Europe/Helsinki:20251026T143000
DTSTAMP:20260422T114515
CREATED:20250930T140407Z
LAST-MODIFIED:20250930T140408Z
UID:4703-1761486600-1761489000@hatsinasalibandy.fi
SUMMARY:P10 Hatsina sininen - Kopa jun
DESCRIPTION:Kailas-talo Heinola\, linkki tulospalveluun
URL:https://hatsinasalibandy.fi/tapahtuma/p10-hatsina-sininen-kopa-jun/
END:VEVENT
BEGIN:VEVENT
DTSTART;TZID=Europe/Helsinki:20251026T160000
DTEND;TZID=Europe/Helsinki:20251026T173000
DTSTAMP:20260422T114515
CREATED:20250930T140628Z
LAST-MODIFIED:20250930T140629Z
UID:4705-1761494400-1761499800@hatsinasalibandy.fi
SUMMARY:P16 KoRe/Sudet SB - Hatsina/SB Heinola
DESCRIPTION:Kisala Mäntyharju\, linkki tulospalveluun
URL:https://hatsinasalibandy.fi/tapahtuma/p16-kore-sudet-sb-hatsina-sb-heinola/
END:VEVENT
END:VCALENDAR