BEGIN:VCALENDAR
VERSION:2.0
PRODID:-//Urheiluseura Hatsina ry - ECPv6.15.14//NONSGML v1.0//EN
CALSCALE:GREGORIAN
METHOD:PUBLISH
X-ORIGINAL-URL:https://hatsinasalibandy.fi
X-WR-CALDESC:Tapahtumat Urheiluseura Hatsina ry
REFRESH-INTERVAL;VALUE=DURATION:PT1H
X-Robots-Tag:noindex
X-PUBLISHED-TTL:PT1H
BEGIN:VTIMEZONE
TZID:Europe/Helsinki
BEGIN:DAYLIGHT
TZOFFSETFROM:+0200
TZOFFSETTO:+0300
TZNAME:EEST
DTSTART:20240331T010000
END:DAYLIGHT
BEGIN:STANDARD
TZOFFSETFROM:+0300
TZOFFSETTO:+0200
TZNAME:EET
DTSTART:20241027T010000
END:STANDARD
BEGIN:DAYLIGHT
TZOFFSETFROM:+0200
TZOFFSETTO:+0300
TZNAME:EEST
DTSTART:20250330T010000
END:DAYLIGHT
BEGIN:STANDARD
TZOFFSETFROM:+0300
TZOFFSETTO:+0200
TZNAME:EET
DTSTART:20251026T010000
END:STANDARD
BEGIN:DAYLIGHT
TZOFFSETFROM:+0200
TZOFFSETTO:+0300
TZNAME:EEST
DTSTART:20260329T010000
END:DAYLIGHT
BEGIN:STANDARD
TZOFFSETFROM:+0300
TZOFFSETTO:+0200
TZNAME:EET
DTSTART:20261025T010000
END:STANDARD
END:VTIMEZONE
BEGIN:VEVENT
DTSTART;TZID=Europe/Helsinki:20251129T103000
DTEND;TZID=Europe/Helsinki:20251129T111000
DTSTAMP:20260422T124401
CREATED:20250930T144715Z
LAST-MODIFIED:20250930T144715Z
UID:4742-1764412200-1764414600@hatsinasalibandy.fi
SUMMARY:P10 SaiPa Musta P9 - Hatsina musta
DESCRIPTION:Joutsenohalli Lappeenranta\, linkki tulospalveluun
URL:https://hatsinasalibandy.fi/tapahtuma/p10-saipa-musta-p9-hatsina-musta/
END:VEVENT
BEGIN:VEVENT
DTSTART;TZID=Europe/Helsinki:20251129T111000
DTEND;TZID=Europe/Helsinki:20251129T115000
DTSTAMP:20260422T124401
CREATED:20250930T144858Z
LAST-MODIFIED:20250930T144859Z
UID:4744-1764414600-1764417000@hatsinasalibandy.fi
SUMMARY:P10 Sudet SB musta - Hatsina sininen
DESCRIPTION:Joutsenohalli Lappeenranta\, linkki tulospalveluun
URL:https://hatsinasalibandy.fi/tapahtuma/p10-sudet-sb-musta-hatsina-sininen/
END:VEVENT
BEGIN:VEVENT
DTSTART;TZID=Europe/Helsinki:20251129T123000
DTEND;TZID=Europe/Helsinki:20251129T131000
DTSTAMP:20260422T124401
CREATED:20250930T145045Z
LAST-MODIFIED:20250930T145046Z
UID:4746-1764419400-1764421800@hatsinasalibandy.fi
SUMMARY:P10 Kopa jun - Hatsina sininen
DESCRIPTION:Joutsenohalli Lappeenranta\, linkki tulospalveluun
URL:https://hatsinasalibandy.fi/tapahtuma/p10-kopa-jun-hatsina-sininen/
END:VEVENT
BEGIN:VEVENT
DTSTART;TZID=Europe/Helsinki:20251129T123000
DTEND;TZID=Europe/Helsinki:20251129T131000
DTSTAMP:20260422T124401
CREATED:20250930T145239Z
LAST-MODIFIED:20250930T145240Z
UID:4748-1764419400-1764421800@hatsinasalibandy.fi
SUMMARY:P10 Hatsina musta - Sudet SB punainen
DESCRIPTION:Joutsenohalli Lappeenranta\, linkki tulospalveluun
URL:https://hatsinasalibandy.fi/tapahtuma/p10-hatsina-musta-sudet-sb-punainen/
END:VEVENT
END:VCALENDAR