BEGIN:VCALENDAR
VERSION:2.0
PRODID:-//Urheiluseura Hatsina ry - ECPv6.15.14//NONSGML v1.0//EN
CALSCALE:GREGORIAN
METHOD:PUBLISH
X-WR-CALNAME:Urheiluseura Hatsina ry
X-ORIGINAL-URL:https://hatsinasalibandy.fi
X-WR-CALDESC:Tapahtumat Urheiluseura Hatsina ry
REFRESH-INTERVAL;VALUE=DURATION:PT1H
X-Robots-Tag:noindex
X-PUBLISHED-TTL:PT1H
BEGIN:VTIMEZONE
TZID:Europe/Helsinki
BEGIN:DAYLIGHT
TZOFFSETFROM:+0200
TZOFFSETTO:+0300
TZNAME:EEST
DTSTART:20230326T010000
END:DAYLIGHT
BEGIN:STANDARD
TZOFFSETFROM:+0300
TZOFFSETTO:+0200
TZNAME:EET
DTSTART:20231029T010000
END:STANDARD
BEGIN:DAYLIGHT
TZOFFSETFROM:+0200
TZOFFSETTO:+0300
TZNAME:EEST
DTSTART:20240331T010000
END:DAYLIGHT
BEGIN:STANDARD
TZOFFSETFROM:+0300
TZOFFSETTO:+0200
TZNAME:EET
DTSTART:20241027T010000
END:STANDARD
BEGIN:DAYLIGHT
TZOFFSETFROM:+0200
TZOFFSETTO:+0300
TZNAME:EEST
DTSTART:20250330T010000
END:DAYLIGHT
BEGIN:STANDARD
TZOFFSETFROM:+0300
TZOFFSETTO:+0200
TZNAME:EET
DTSTART:20251026T010000
END:STANDARD
BEGIN:DAYLIGHT
TZOFFSETFROM:+0200
TZOFFSETTO:+0300
TZNAME:EEST
DTSTART:20260329T010000
END:DAYLIGHT
BEGIN:STANDARD
TZOFFSETFROM:+0300
TZOFFSETTO:+0200
TZNAME:EET
DTSTART:20261025T010000
END:STANDARD
END:VTIMEZONE
BEGIN:VEVENT
DTSTART;TZID=Europe/Helsinki:20241214T000000
DTEND;TZID=Europe/Helsinki:20241214T235959
DTSTAMP:20260420T184030
CREATED:20241108T092640Z
LAST-MODIFIED:20241108T092642Z
UID:4301-1734134400-1734220799@hatsinasalibandy.fi
SUMMARY:Miehet Mäntyharjulla
DESCRIPTION:klo 17.00 MäVi – Hatsina
URL:https://hatsinasalibandy.fi/tapahtuma/miehet-mantyharjulla/
END:VEVENT
BEGIN:VEVENT
DTSTART;TZID=Europe/Helsinki:20241215T000000
DTEND;TZID=Europe/Helsinki:20241215T235959
DTSTAMP:20260420T184030
CREATED:20241109T212000Z
LAST-MODIFIED:20241109T212003Z
UID:4341-1734220800-1734307199@hatsinasalibandy.fi
SUMMARY:P12 Sysmässä
DESCRIPTION:klo 11.00 BB-88 – Hatsina musta \n\n\n\nklo 13.00 Hatsina musta – Sudet SB musta Stars \n\n\n\nklo 14.00 Hatsina sininen – Sudet SB musta Kings \n\n\n\nklo 16.00 Sudet SB musta Stars – Hatsina sininen
URL:https://hatsinasalibandy.fi/tapahtuma/p12-sysmassa/
END:VEVENT
BEGIN:VEVENT
DTSTART;TZID=Europe/Helsinki:20241220T190000
DTEND;TZID=Europe/Helsinki:20241220T210000
DTSTAMP:20260420T184030
CREATED:20241108T092742Z
LAST-MODIFIED:20241108T092744Z
UID:4303-1734721200-1734728400@hatsinasalibandy.fi
SUMMARY:Miesten kotipeli Saimaa Stadiumilla
DESCRIPTION:klo 19.00 Hatsina – Jäppärä
URL:https://hatsinasalibandy.fi/tapahtuma/miesten-kotipeli-saimaa-stadiumilla-6/
END:VEVENT
BEGIN:VEVENT
DTSTART;TZID=Europe/Helsinki:20241221T000000
DTEND;TZID=Europe/Helsinki:20241221T235959
DTSTAMP:20260420T184030
CREATED:20241109T214302Z
LAST-MODIFIED:20241109T214303Z
UID:4349-1734739200-1734825599@hatsinasalibandy.fi
SUMMARY:P11 Mäntyharjulla
DESCRIPTION:klo 13.00 MäVi – Hatsina musta \n\n\n\nklo 13.40 SaiPa P10 – Hatsina sininen \n\n\n\nklo 15.40 Hatsina musta – SaiPa P10 \n\n\n\nklo 16.20 Hatsina sininen – Top Team keltainen \n\n\n\nklo 17.40 Top Team keltainen – Hatsina musta \n\n\n\nklo 18.20 MäVi – Hatsina sininen
URL:https://hatsinasalibandy.fi/tapahtuma/p11-mantyharjulla/
END:VEVENT
BEGIN:VEVENT
DTSTART;TZID=Europe/Helsinki:20241222T000000
DTEND;TZID=Europe/Helsinki:20241222T235959
DTSTAMP:20260420T184030
CREATED:20241108T091134Z
LAST-MODIFIED:20241108T091135Z
UID:4273-1734825600-1734911999@hatsinasalibandy.fi
SUMMARY:P17 (P18) kotiturnaus Saimaa Stadiumilla
DESCRIPTION:klo 12.00 Hatsina – SB Raatti \n\n\n\nklo 13.00 LeBa/Josba – Apassit \n\n\n\nklo 14.00 SB Raatti – VarTa \n\n\n\nklo 15.00 Apassit – Hatsina \n\n\n\nklo 16.00 VarTa – LeBa/Josba
URL:https://hatsinasalibandy.fi/tapahtuma/p17-p18-kotiturnaus-saimaa-stadiumilla/
END:VEVENT
BEGIN:VEVENT
DTSTART;TZID=Europe/Helsinki:20250105T000000
DTEND;TZID=Europe/Helsinki:20250105T235959
DTSTAMP:20260420T184030
CREATED:20250102T120924Z
LAST-MODIFIED:20250102T121047Z
UID:4440-1736035200-1736121599@hatsinasalibandy.fi
SUMMARY:P12 Mäntyharjussa
DESCRIPTION:Klo 12.00 Sudet SB musta Kings- Hatsina Musta \n\n\n\nKlo 14.00 Hatsina Sininen – Sudet SB musta Kings \n\n\n\nKlo 15.00 Hatsina Musta- Sudet SB musta Stars \n\n\n\nKlo 16.00 Jäppärä- Hatsina Sininen
URL:https://hatsinasalibandy.fi/tapahtuma/p12-mahtyharjussa/
END:VEVENT
BEGIN:VEVENT
DTSTART;TZID=Europe/Helsinki:20250105T000000
DTEND;TZID=Europe/Helsinki:20250105T235959
DTSTAMP:20260420T184030
CREATED:20250131T223724Z
LAST-MODIFIED:20250131T223820Z
UID:4485-1736035200-1736121599@hatsinasalibandy.fi
SUMMARY:P10 Lahdessa
DESCRIPTION:Klo 11.10 Hatsina – SaiPa musta \n\n\n\nKlo 12.30 Sudet SB punainen – Hatsina \n\n\n\nKlo 14.30 Hatsina – Sudet SB musta
URL:https://hatsinasalibandy.fi/tapahtuma/p10-lahdessa/
END:VEVENT
BEGIN:VEVENT
DTSTART;TZID=Europe/Helsinki:20250111T180000
DTEND;TZID=Europe/Helsinki:20250111T200000
DTSTAMP:20260420T184030
CREATED:20241108T092837Z
LAST-MODIFIED:20241108T092838Z
UID:4305-1736618400-1736625600@hatsinasalibandy.fi
SUMMARY:Miesten kotipeli Saimaa Stadiumilla
DESCRIPTION:klo 18.00 Hatsina – SB Heinola
URL:https://hatsinasalibandy.fi/tapahtuma/miesten-kotipeli-saimaa-stadiumilla-7/
END:VEVENT
BEGIN:VEVENT
DTSTART;TZID=Europe/Helsinki:20250112T000000
DTEND;TZID=Europe/Helsinki:20250112T235959
DTSTAMP:20260420T184030
CREATED:20250131T224733Z
LAST-MODIFIED:20250131T224736Z
UID:4497-1736640000-1736726399@hatsinasalibandy.fi
SUMMARY:P11 kotiturnaus Saimaa Stadiumilla
DESCRIPTION:Klo 11.00 Hatsina – SaiPa keltainen \n\n\n\nKlo 11.40 Hatsina – Pelicans SB P10 \n\n\n\nKlo 13.40 SaiPa musta – Hatsina \n\n\n\nKlo 16.20 MäVi – Hatsina
URL:https://hatsinasalibandy.fi/tapahtuma/p11-kotiturnaus-saimaa-stadiumilla-2/
END:VEVENT
BEGIN:VEVENT
DTSTART;TZID=Europe/Helsinki:20250118T000000
DTEND;TZID=Europe/Helsinki:20250118T235959
DTSTAMP:20260420T184030
CREATED:20241108T091306Z
LAST-MODIFIED:20241108T091355Z
UID:4275-1737158400-1737244799@hatsinasalibandy.fi
SUMMARY:P17 (P18) Varkaudessa
DESCRIPTION:klo 12.00 Hatsina – SB Raatti \n\n\n\nklo 15.00 LeBa/Josba – Hatsina
URL:https://hatsinasalibandy.fi/tapahtuma/p17-p18-varkaudessa/
END:VEVENT
BEGIN:VEVENT
DTSTART;TZID=Europe/Helsinki:20250118T000000
DTEND;TZID=Europe/Helsinki:20250118T235959
DTSTAMP:20260420T184030
CREATED:20241108T093012Z
LAST-MODIFIED:20241108T093014Z
UID:4307-1737158400-1737244799@hatsinasalibandy.fi
SUMMARY:Miehet Iitissä
DESCRIPTION:klo 17.00 Kyljykset – Hatsina
URL:https://hatsinasalibandy.fi/tapahtuma/miehet-iitissa/
END:VEVENT
BEGIN:VEVENT
DTSTART;TZID=Europe/Helsinki:20250118T000000
DTEND;TZID=Europe/Helsinki:20250118T235959
DTSTAMP:20260420T184030
CREATED:20241108T172020Z
LAST-MODIFIED:20241108T172022Z
UID:4329-1737158400-1737244799@hatsinasalibandy.fi
SUMMARY:P15 Lappeenrannassa
DESCRIPTION:klo 14.00 Hatsina/SB Heinola – Sudet SB \n\n\n\nklo 17.00 KoRe keltainen – Hatsina/SB Heinola
URL:https://hatsinasalibandy.fi/tapahtuma/p15-lappeenrannassa/
END:VEVENT
BEGIN:VEVENT
DTSTART;TZID=Europe/Helsinki:20250119T000000
DTEND;TZID=Europe/Helsinki:20250119T235959
DTSTAMP:20260420T184030
CREATED:20250131T222110Z
LAST-MODIFIED:20250131T223159Z
UID:4474-1737244800-1737331199@hatsinasalibandy.fi
SUMMARY:P12 kotiturnaus Saimaa Stadiumilla
DESCRIPTION:Klo 11.00 Hatsina sininen – MäVi \n\n\n\nKlo 12.00 Hatsina musta – Top Team musta \n\n\n\nKlo 14.00 Jäppärä – Hatsina musta \n\n\n\nKlo 17.00 Sudet SB musta Stars – Hatsina sininen
URL:https://hatsinasalibandy.fi/tapahtuma/p12-kotiturnaus-saimaa-stadiumilla-2/
END:VEVENT
BEGIN:VEVENT
DTSTART;TZID=Europe/Helsinki:20250125T000000
DTEND;TZID=Europe/Helsinki:20250125T235959
DTSTAMP:20260420T184030
CREATED:20241108T093105Z
LAST-MODIFIED:20241108T093106Z
UID:4309-1737763200-1737849599@hatsinasalibandy.fi
SUMMARY:Miehet Hollolassa
DESCRIPTION:klo 12.00 SB Coyotes – Hatsina
URL:https://hatsinasalibandy.fi/tapahtuma/miehet-hollolassa/
END:VEVENT
BEGIN:VEVENT
DTSTART;TZID=Europe/Helsinki:20250125T000000
DTEND;TZID=Europe/Helsinki:20250125T235959
DTSTAMP:20260420T184030
CREATED:20250131T224005Z
LAST-MODIFIED:20250131T224007Z
UID:4489-1737763200-1737849599@hatsinasalibandy.fi
SUMMARY:P10 Orimattilassa
DESCRIPTION:Klo 11.20 Jymy – Hatsina \n\n\n\nKlo 12.40 Saipa keltamusta – Hatsina \n\n\n\nKlo 14.40 Hatsina – Kopa jun
URL:https://hatsinasalibandy.fi/tapahtuma/p10-orimattilassa/
END:VEVENT
BEGIN:VEVENT
DTSTART;TZID=Europe/Helsinki:20250201T000000
DTEND;TZID=Europe/Helsinki:20250201T235959
DTSTAMP:20260420T184030
CREATED:20241108T172114Z
LAST-MODIFIED:20241108T172115Z
UID:4331-1738368000-1738454399@hatsinasalibandy.fi
SUMMARY:P15 Kouvolassa
DESCRIPTION:klo 12.00 SaiPa P14 – Hatsina/SB Heinola \n\n\n\nklo 15.00 Hatsina/SB Heinola – Pelicans SB musta
URL:https://hatsinasalibandy.fi/tapahtuma/p15-kouvolassa/
END:VEVENT
BEGIN:VEVENT
DTSTART;TZID=Europe/Helsinki:20250201T000000
DTEND;TZID=Europe/Helsinki:20250201T235959
DTSTAMP:20260420T184030
CREATED:20250131T224941Z
LAST-MODIFIED:20250131T224943Z
UID:4499-1738368000-1738454399@hatsinasalibandy.fi
SUMMARY:P11 kotiturnaus Saimaanportin koululla
DESCRIPTION:Klo 11.00 MäVi – Hatsina \n\n\n\nKlo 13.00 Hatsina – Top Team keltainen \n\n\n\nKlo 15.00 BB-88 – Hatsina \n\n\n\nKlo 15.40 SaiPa – Hatsina
URL:https://hatsinasalibandy.fi/tapahtuma/p11-kotiturnaus-saimaanportin-koululla/
END:VEVENT
BEGIN:VEVENT
DTSTART;TZID=Europe/Helsinki:20250202T000000
DTEND;TZID=Europe/Helsinki:20250202T235959
DTSTAMP:20260420T184030
CREATED:20250201T221116Z
LAST-MODIFIED:20250201T221118Z
UID:4507-1738454400-1738540799@hatsinasalibandy.fi
SUMMARY:P9 Kouvolassa
DESCRIPTION:Klo 11.40 Hatsina musta – Pelicans SB musta \n\n\n\nKlo 12.20 Hatsina sininen – MäVi musta \n\n\n\nKlo 13.40 Hatsina sininen – SaiPa musta \n\n\n\nKlo 13.40´Hatsina musta – Pelicans SB turkoosi \n\n\n\nKlo 15.00 Hatsina musta – LASB Jr \n\n\n\nKlo 16.20 Hatsina sininen – SaiPa keltainen
URL:https://hatsinasalibandy.fi/tapahtuma/p9-kouvolassa-2/
END:VEVENT
BEGIN:VEVENT
DTSTART;TZID=Europe/Helsinki:20250208T000000
DTEND;TZID=Europe/Helsinki:20250208T235959
DTSTAMP:20260420T184030
CREATED:20241108T091451Z
LAST-MODIFIED:20241108T091453Z
UID:4277-1738972800-1739059199@hatsinasalibandy.fi
SUMMARY:P17 (P18) Nilsiässä
DESCRIPTION:klo 12.00 Apassit – Hatsina \n\n\n\nklo 14.00 Hatsina – VarTa
URL:https://hatsinasalibandy.fi/tapahtuma/p17-p18-nilsiassa-3/
END:VEVENT
BEGIN:VEVENT
DTSTART;TZID=Europe/Helsinki:20250208T180000
DTEND;TZID=Europe/Helsinki:20250208T200000
DTSTAMP:20260420T184030
CREATED:20241108T093207Z
LAST-MODIFIED:20241108T093208Z
UID:4311-1739037600-1739044800@hatsinasalibandy.fi
SUMMARY:Miesten kotipeli Saimaa Stadiumilla
DESCRIPTION:klo 18.00 Hatsina – SaiPa akatemia
URL:https://hatsinasalibandy.fi/tapahtuma/miesten-kotipeli-saimaa-stadiumilla-8/
END:VEVENT
BEGIN:VEVENT
DTSTART;TZID=Europe/Helsinki:20250209T000000
DTEND;TZID=Europe/Helsinki:20250209T235959
DTSTAMP:20260420T184030
CREATED:20250131T222256Z
LAST-MODIFIED:20250131T223044Z
UID:4476-1739059200-1739145599@hatsinasalibandy.fi
SUMMARY:P12 Kouvolassa
DESCRIPTION:Klo 14.00 Hatsina musta – Sudet SB musta Kings \n\n\n\nKlo 15.00 Top Team musta – Hatsina sininen \n\n\n\nKlo 16.00 MäVi – Hatsina musta \n\n\n\nKlo 17.00 Hatsina sininen – Sudet SB musta Stars
URL:https://hatsinasalibandy.fi/tapahtuma/p12-kouvolassa/
END:VEVENT
BEGIN:VEVENT
DTSTART;TZID=Europe/Helsinki:20250215T000000
DTEND;TZID=Europe/Helsinki:20250215T235959
DTSTAMP:20260420T184030
CREATED:20241108T093312Z
LAST-MODIFIED:20241108T093315Z
UID:4313-1739577600-1739663999@hatsinasalibandy.fi
SUMMARY:Miehet Kotkassa
DESCRIPTION:klo 15.00 KoRe – Hatsina
URL:https://hatsinasalibandy.fi/tapahtuma/miehet-kotkassa/
END:VEVENT
BEGIN:VEVENT
DTSTART;TZID=Europe/Helsinki:20250215T000000
DTEND;TZID=Europe/Helsinki:20250215T235959
DTSTAMP:20260420T184030
CREATED:20250131T225305Z
LAST-MODIFIED:20250131T225307Z
UID:4501-1739577600-1739663999@hatsinasalibandy.fi
SUMMARY:P11 Mäntyharjussa
DESCRIPTION:Klo 10.20 SaiPa P10 – Hatsina \n\n\n\nKlo 13.00 Hatsina – Top Team keltainen \n\n\n\nKlo 14.20 Hatsina – SB Heinola valkoinen
URL:https://hatsinasalibandy.fi/tapahtuma/p11-mantyharjussa/
END:VEVENT
BEGIN:VEVENT
DTSTART;TZID=Europe/Helsinki:20250216T000000
DTEND;TZID=Europe/Helsinki:20250216T235959
DTSTAMP:20260420T184030
CREATED:20250131T224125Z
LAST-MODIFIED:20250131T224126Z
UID:4491-1739664000-1739750399@hatsinasalibandy.fi
SUMMARY:P10 Kouvolassa
DESCRIPTION:Klo 11.20 SC Jenga – Hatsina \n\n\n\nKl 12.40 SaiPa musta – Hatsina \n\n\n\nKlo 14.40 Hatsina – SaiPa keltamusta
URL:https://hatsinasalibandy.fi/tapahtuma/p10-kouvolassa/
END:VEVENT
BEGIN:VEVENT
DTSTART;TZID=Europe/Helsinki:20250222T000000
DTEND;TZID=Europe/Helsinki:20250222T235959
DTSTAMP:20260420T184030
CREATED:20250201T222030Z
LAST-MODIFIED:20250201T222031Z
UID:4513-1740182400-1740268799@hatsinasalibandy.fi
SUMMARY:P9 Lappeenrannassa
DESCRIPTION:
URL:https://hatsinasalibandy.fi/tapahtuma/p9-lappeenrannassa-2/
END:VEVENT
BEGIN:VEVENT
DTSTART;TZID=Europe/Helsinki:20250222T180000
DTEND;TZID=Europe/Helsinki:20250222T200000
DTSTAMP:20260420T184030
CREATED:20241108T093354Z
LAST-MODIFIED:20241108T093355Z
UID:4315-1740247200-1740254400@hatsinasalibandy.fi
SUMMARY:Miesten kotipeli Saimaa Stadiumilla
DESCRIPTION:klo 18.00 Hatsina – Sudet SB II
URL:https://hatsinasalibandy.fi/tapahtuma/miesten-kotipeli-saimaa-stadiumilla-9/
END:VEVENT
BEGIN:VEVENT
DTSTART;TZID=Europe/Helsinki:20250228T000000
DTEND;TZID=Europe/Helsinki:20250228T235959
DTSTAMP:20260420T184030
CREATED:20241108T093434Z
LAST-MODIFIED:20241108T093435Z
UID:4317-1740700800-1740787199@hatsinasalibandy.fi
SUMMARY:Miehet Savonlinnassa
DESCRIPTION:klo 19.00 TT Stars – Hatsina
URL:https://hatsinasalibandy.fi/tapahtuma/miehet-savonlinnassa/
END:VEVENT
BEGIN:VEVENT
DTSTART;TZID=Europe/Helsinki:20250301T000000
DTEND;TZID=Europe/Helsinki:20250301T235959
DTSTAMP:20260420T184030
CREATED:20241108T091547Z
LAST-MODIFIED:20241108T091548Z
UID:4279-1740787200-1740873599@hatsinasalibandy.fi
SUMMARY:P17 (P18) Kontiolahdella
DESCRIPTION:klo 13.00 SB Raatti – Hatsina \n\n\n\nklo 15.00 Hatsina – VarTa
URL:https://hatsinasalibandy.fi/tapahtuma/p17-p18-kontiolahdella/
END:VEVENT
BEGIN:VEVENT
DTSTART;TZID=Europe/Helsinki:20250301T000000
DTEND;TZID=Europe/Helsinki:20250301T235959
DTSTAMP:20260420T184030
CREATED:20241108T172205Z
LAST-MODIFIED:20241108T172207Z
UID:4333-1740787200-1740873599@hatsinasalibandy.fi
SUMMARY:P15 Lahdessa
DESCRIPTION:klo 11.00 RajuVoima – Hatsina/SB Heinola \n\n\n\nklo 13.00 Hatsina/SB Heinola – SaiPa keltainen
URL:https://hatsinasalibandy.fi/tapahtuma/p15-lahdessa/
END:VEVENT
BEGIN:VEVENT
DTSTART;TZID=Europe/Helsinki:20250301T000000
DTEND;TZID=Europe/Helsinki:20250301T235959
DTSTAMP:20260420T184030
CREATED:20250131T222407Z
LAST-MODIFIED:20250131T222948Z
UID:4478-1740787200-1740873599@hatsinasalibandy.fi
SUMMARY:P12 Kärkölässä
DESCRIPTION:Klo 12.00 Jäppärä – Hatsina musta \n\n\n\nKlo 14.00 Hatsina musta – Sudet SB musta Stars \n\n\n\nKlo 15.00 Hatsina sininen – Sudet SB musta Kings \n\n\n\nKlo 17.00 Sudet SB musta Stars – Hatsina sininen
URL:https://hatsinasalibandy.fi/tapahtuma/p12-karkolassa/
END:VEVENT
END:VCALENDAR