BEGIN:VCALENDAR
VERSION:2.0
PRODID:-//Urheiluseura Hatsina ry - ECPv6.15.14//NONSGML v1.0//EN
CALSCALE:GREGORIAN
METHOD:PUBLISH
X-WR-CALNAME:Urheiluseura Hatsina ry
X-ORIGINAL-URL:https://hatsinasalibandy.fi
X-WR-CALDESC:Tapahtumat Urheiluseura Hatsina ry
REFRESH-INTERVAL;VALUE=DURATION:PT1H
X-Robots-Tag:noindex
X-PUBLISHED-TTL:PT1H
BEGIN:VTIMEZONE
TZID:Europe/Helsinki
BEGIN:DAYLIGHT
TZOFFSETFROM:+0200
TZOFFSETTO:+0300
TZNAME:EEST
DTSTART:20240331T010000
END:DAYLIGHT
BEGIN:STANDARD
TZOFFSETFROM:+0300
TZOFFSETTO:+0200
TZNAME:EET
DTSTART:20241027T010000
END:STANDARD
BEGIN:DAYLIGHT
TZOFFSETFROM:+0200
TZOFFSETTO:+0300
TZNAME:EEST
DTSTART:20250330T010000
END:DAYLIGHT
BEGIN:STANDARD
TZOFFSETFROM:+0300
TZOFFSETTO:+0200
TZNAME:EET
DTSTART:20251026T010000
END:STANDARD
BEGIN:DAYLIGHT
TZOFFSETFROM:+0200
TZOFFSETTO:+0300
TZNAME:EEST
DTSTART:20260329T010000
END:DAYLIGHT
BEGIN:STANDARD
TZOFFSETFROM:+0300
TZOFFSETTO:+0200
TZNAME:EET
DTSTART:20261025T010000
END:STANDARD
END:VTIMEZONE
BEGIN:VEVENT
DTSTART;TZID=Europe/Helsinki:20250306T000000
DTEND;TZID=Europe/Helsinki:20250306T235959
DTSTAMP:20260420T220705
CREATED:20250306T214911Z
LAST-MODIFIED:20250306T214913Z
UID:4520-1741219200-1741305599@hatsinasalibandy.fi
SUMMARY:Miehet Kotkassa
DESCRIPTION:Klo 19.00 KoRe – Hatsina
URL:https://hatsinasalibandy.fi/tapahtuma/miehet-kotkassa-2/
END:VEVENT
BEGIN:VEVENT
DTSTART;TZID=Europe/Helsinki:20250308T000000
DTEND;TZID=Europe/Helsinki:20250308T235959
DTSTAMP:20260420T220705
CREATED:20250131T225455Z
LAST-MODIFIED:20250131T225457Z
UID:4503-1741392000-1741478399@hatsinasalibandy.fi
SUMMARY:P11 Savonlinnassa
DESCRIPTION:Klo 11.40 Hatsina – SaiPa musta \n\n\n\nKlo 13.40 SaiPa keltainen – Hatsina \n\n\n\nKlo 15.00 Hatsina – SaiPa P10
URL:https://hatsinasalibandy.fi/tapahtuma/p11-savonlinnassa-2/
END:VEVENT
BEGIN:VEVENT
DTSTART;TZID=Europe/Helsinki:20250308T000000
DTEND;TZID=Europe/Helsinki:20250308T235959
DTSTAMP:20260420T220706
CREATED:20250306T215130Z
LAST-MODIFIED:20250306T215905Z
UID:4524-1741392000-1741478399@hatsinasalibandy.fi
SUMMARY:Miesten kotipeli Saimaa Stadiumilla
DESCRIPTION:Klo 14.00 Hatsina – KoRe
URL:https://hatsinasalibandy.fi/tapahtuma/miesten-kotipeli-saimaa-stadiumilla-10/
END:VEVENT
BEGIN:VEVENT
DTSTART;TZID=Europe/Helsinki:20250309T000000
DTEND;TZID=Europe/Helsinki:20250309T235959
DTSTAMP:20260420T220706
CREATED:20250201T221740Z
LAST-MODIFIED:20250201T222911Z
UID:4509-1741478400-1741564799@hatsinasalibandy.fi
SUMMARY:P9 Mäntyharjussa
DESCRIPTION:
URL:https://hatsinasalibandy.fi/tapahtuma/p9-mantyharjussa/
END:VEVENT
BEGIN:VEVENT
DTSTART;TZID=Europe/Helsinki:20250309T000000
DTEND;TZID=Europe/Helsinki:20250309T235959
DTSTAMP:20260420T220706
CREATED:20250306T215041Z
LAST-MODIFIED:20250306T215043Z
UID:4522-1741478400-1741564799@hatsinasalibandy.fi
SUMMARY:Miehet Kotkassa
DESCRIPTION:Klo 15.00 KoRe – Hatsina
URL:https://hatsinasalibandy.fi/tapahtuma/miehet-kotkassa-3/
END:VEVENT
BEGIN:VEVENT
DTSTART;TZID=Europe/Helsinki:20250316T000000
DTEND;TZID=Europe/Helsinki:20250316T235959
DTSTAMP:20260420T220706
CREATED:20250131T222815Z
LAST-MODIFIED:20250131T222816Z
UID:4480-1742083200-1742169599@hatsinasalibandy.fi
SUMMARY:P12 Savonlinnassa
DESCRIPTION:Klo 11.00 Top Team musta \n\n\n\nKlo 13.00 Hatsina sininen – Jäppärä \n\n\n\nKlo 15.00 Sudet SB musta Kings – Hatsina musta \n\n\n\nKlo 17.00 Hatsina musta – Top Team musta
URL:https://hatsinasalibandy.fi/tapahtuma/p12-savonlinnassa-2/
END:VEVENT
BEGIN:VEVENT
DTSTART;TZID=Europe/Helsinki:20250322T000000
DTEND;TZID=Europe/Helsinki:20250322T235959
DTSTAMP:20260420T220706
CREATED:20250131T224421Z
LAST-MODIFIED:20250131T224422Z
UID:4495-1742601600-1742687999@hatsinasalibandy.fi
SUMMARY:P10 Lemillä
DESCRIPTION:Klo 11.40 Hatsina – Sudet SB punainen \n\n\n\nKlo 12.20 Hatsina – SaiPa musta \n\n\n\nKlo 14.20 Kopa jun – Hatsina
URL:https://hatsinasalibandy.fi/tapahtuma/p10-lemilla/
END:VEVENT
BEGIN:VEVENT
DTSTART;TZID=Europe/Helsinki:20250323T000000
DTEND;TZID=Europe/Helsinki:20250323T235959
DTSTAMP:20260420T220706
CREATED:20241108T091638Z
LAST-MODIFIED:20241108T091640Z
UID:4281-1742688000-1742774399@hatsinasalibandy.fi
SUMMARY:P17 (P18) Varkaudessa
DESCRIPTION:klo 12.00 Hatsina – LeBa/Josba \n\n\n\nklo 15.00 Apassit – Hatsina
URL:https://hatsinasalibandy.fi/tapahtuma/p17-p18-varkaudessa-2/
END:VEVENT
BEGIN:VEVENT
DTSTART;TZID=Europe/Helsinki:20250329T000000
DTEND;TZID=Europe/Helsinki:20250329T235959
DTSTAMP:20260420T220706
CREATED:20250131T225644Z
LAST-MODIFIED:20250131T225646Z
UID:4505-1743206400-1743292799@hatsinasalibandy.fi
SUMMARY:P11 Lappeenrannassa
DESCRIPTION:Klo 14.00 SaiPa keltainen – Hatsina \n\n\n\nKlo 16.00 Hatsina – SaiPa musta \n\n\n\nKlo 18.00 SaiPa P10 – Hatsina
URL:https://hatsinasalibandy.fi/tapahtuma/p11-lappeenrannassa/
END:VEVENT
BEGIN:VEVENT
DTSTART;TZID=Europe/Helsinki:20250329T000000
DTEND;TZID=Europe/Helsinki:20250329T235959
DTSTAMP:20260420T220706
CREATED:20250201T221852Z
LAST-MODIFIED:20250201T221854Z
UID:4511-1743206400-1743292799@hatsinasalibandy.fi
SUMMARY:P9 kotiturnaus Saimaa Stadiumilla
DESCRIPTION:
URL:https://hatsinasalibandy.fi/tapahtuma/p9-kotiturnaus-saimaa-stadiumilla/
END:VEVENT
BEGIN:VEVENT
DTSTART;TZID=Europe/Helsinki:20250405T000000
DTEND;TZID=Europe/Helsinki:20250405T235959
DTSTAMP:20260420T220706
CREATED:20250401T090351Z
LAST-MODIFIED:20250401T090550Z
UID:4529-1743811200-1743897599@hatsinasalibandy.fi
SUMMARY:P12 Aluelopputurnaus Saimaa Stadiumilla
DESCRIPTION:
URL:https://hatsinasalibandy.fi/tapahtuma/4529/
LOCATION:Saimaa Stadiumi\, Raviradantie 22b\, Mikkeli\, 50100
END:VEVENT
BEGIN:VEVENT
DTSTART;TZID=Europe/Helsinki:20250412T000000
DTEND;TZID=Europe/Helsinki:20250412T235959
DTSTAMP:20260420T220706
CREATED:20250410T110441Z
LAST-MODIFIED:20250410T110441Z
UID:4540-1744416000-1744502399@hatsinasalibandy.fi
SUMMARY:P11 Aluelopputurnaus
DESCRIPTION:P11 Aluelopputurnaus Mäntyharjulla \n\n\n\nAlkusarjan pelit \n\n\n\nklo 10.00 Hatsina – Mävi \n\n\n\nklo 12.40 Hatsina – Sb Heinola valkoinen \n\n\n\nklo 14.00 Jenga team tiikerit- Hatsina \n\n\n\n \n\n\n\nklo 16.45 alkaen sijoitusottelut
URL:https://hatsinasalibandy.fi/tapahtuma/p11-aluelopputurnaus/
LOCATION:Kisala Mäntyharju\, Urheilutie 1\, Mäntyharju\, 52700
END:VEVENT
BEGIN:VEVENT
DTSTART;TZID=Europe/Helsinki:20251003T190000
DTEND;TZID=Europe/Helsinki:20251003T210000
DTSTAMP:20260420T220706
CREATED:20250916T100601Z
LAST-MODIFIED:20250916T100603Z
UID:4629-1759518000-1759525200@hatsinasalibandy.fi
SUMMARY:Hatsina - Kyljykset
DESCRIPTION:Miesten 2-divisioonaa Saimaa Stadiumilla.Kauden avaus ottelussa Miesten edustusjoukkue kohtaa Kyljykset Iitistä.Liput: 5€
URL:https://hatsinasalibandy.fi/tapahtuma/hatsina-kyljykset/
END:VEVENT
BEGIN:VEVENT
DTSTART;TZID=Europe/Helsinki:20251004T113000
DTEND;TZID=Europe/Helsinki:20251004T123000
DTSTAMP:20260420T220706
CREATED:20250929T145808Z
LAST-MODIFIED:20250929T145808Z
UID:4649-1759577400-1759581000@hatsinasalibandy.fi
SUMMARY:P16 MäVi-Hatsina/SB Heinola
DESCRIPTION:Paavola kampus\, Lahti linkki tulospalveluun
URL:https://hatsinasalibandy.fi/tapahtuma/p16-mavi-hatsina-sb-heinola/
END:VEVENT
BEGIN:VEVENT
DTSTART;TZID=Europe/Helsinki:20251004T130000
DTEND;TZID=Europe/Helsinki:20251004T140000
DTSTAMP:20260420T220706
CREATED:20250929T145208Z
LAST-MODIFIED:20250929T145443Z
UID:4645-1759582800-1759586400@hatsinasalibandy.fi
SUMMARY:P 16 Hatsina/SB Heinola- Pelicans SB
DESCRIPTION:Paavolan kampus Lahti linkki tulospalveluun
URL:https://hatsinasalibandy.fi/tapahtuma/p-16-mavi-hatsina-sb-heinola/
END:VEVENT
BEGIN:VEVENT
DTSTART;TZID=Europe/Helsinki:20251004T130000
DTEND;TZID=Europe/Helsinki:20251004T140000
DTSTAMP:20260420T220706
CREATED:20250929T145926Z
LAST-MODIFIED:20250929T150038Z
UID:4651-1759582800-1759586400@hatsinasalibandy.fi
SUMMARY:P14 TaiKi-Hatsina
DESCRIPTION:Kallas-talo\, Heinola linkki tulospalveluun
URL:https://hatsinasalibandy.fi/tapahtuma/p14-taiki-hatsina/
END:VEVENT
BEGIN:VEVENT
DTSTART;TZID=Europe/Helsinki:20251004T150000
DTEND;TZID=Europe/Helsinki:20251004T160000
DTSTAMP:20260420T220706
CREATED:20250929T150225Z
LAST-MODIFIED:20250929T150225Z
UID:4654-1759590000-1759593600@hatsinasalibandy.fi
SUMMARY:P14 Hatsina-MäVi
DESCRIPTION:Kallas-talo Heinola\, linkki tulospalveluun
URL:https://hatsinasalibandy.fi/tapahtuma/p14-hatsina-mavi/
END:VEVENT
BEGIN:VEVENT
DTSTART;TZID=Europe/Helsinki:20251011T114000
DTEND;TZID=Europe/Helsinki:20251011T121000
DTSTAMP:20260420T220706
CREATED:20250929T150434Z
LAST-MODIFIED:20250929T150435Z
UID:4656-1760182800-1760184600@hatsinasalibandy.fi
SUMMARY:P10 LASB Jr valkoinen- Hatsina musta
DESCRIPTION:Salpausselkähalli\, Lahti. Linkki tulospalveluun
URL:https://hatsinasalibandy.fi/tapahtuma/p10-lasb-jr-valkoinen-hatsina-musta/
END:VEVENT
BEGIN:VEVENT
DTSTART;TZID=Europe/Helsinki:20251011T122000
DTEND;TZID=Europe/Helsinki:20251011T130000
DTSTAMP:20260420T220706
CREATED:20250929T150555Z
LAST-MODIFIED:20250929T150556Z
UID:4658-1760185200-1760187600@hatsinasalibandy.fi
SUMMARY:P10 Pelicans SB musta - Hatsina musta
DESCRIPTION:Salpausselkähalli\, Lahti. Linkki tulospalveluun
URL:https://hatsinasalibandy.fi/tapahtuma/p10-pelicans-sb-musta-hatsina-musta/
END:VEVENT
BEGIN:VEVENT
DTSTART;TZID=Europe/Helsinki:20251011T122000
DTEND;TZID=Europe/Helsinki:20251011T130000
DTSTAMP:20260420T220706
CREATED:20250929T150744Z
LAST-MODIFIED:20250929T150745Z
UID:4660-1760185200-1760187600@hatsinasalibandy.fi
SUMMARY:P10 Pelicans Musta P9- Hatsina sininen
DESCRIPTION:Salpausselkähalli\, Lahti. Linkki tulospalveluun
URL:https://hatsinasalibandy.fi/tapahtuma/p10-pelicans-musta-p9-hatsina-sininen/
END:VEVENT
BEGIN:VEVENT
DTSTART;TZID=Europe/Helsinki:20251011T130000
DTEND;TZID=Europe/Helsinki:20251011T134000
DTSTAMP:20260420T220706
CREATED:20250929T150929Z
LAST-MODIFIED:20250929T150930Z
UID:4662-1760187600-1760190000@hatsinasalibandy.fi
SUMMARY:P10 Hatsina sininen - BB-88
DESCRIPTION:Salpausselkähalli\, Lahti. Linkki tulospalveluun
URL:https://hatsinasalibandy.fi/tapahtuma/p10-hatsina-sininen-bb-88/
END:VEVENT
BEGIN:VEVENT
DTSTART;TZID=Europe/Helsinki:20251011T134000
DTEND;TZID=Europe/Helsinki:20251011T142000
DTSTAMP:20260420T220706
CREATED:20250929T153051Z
LAST-MODIFIED:20250929T153051Z
UID:4664-1760190000-1760192400@hatsinasalibandy.fi
SUMMARY:P10 Hatsina musta - Pelicans Turkoosi P9
DESCRIPTION:Salpausselkähalli\, Lahti. Linkki tulospalveluun
URL:https://hatsinasalibandy.fi/tapahtuma/p10-hatsina-musta-pelicans-turkoosi-p9/
END:VEVENT
BEGIN:VEVENT
DTSTART;TZID=Europe/Helsinki:20251011T142000
DTEND;TZID=Europe/Helsinki:20251011T150000
DTSTAMP:20260420T220706
CREATED:20250929T153230Z
LAST-MODIFIED:20250929T153231Z
UID:4666-1760192400-1760194800@hatsinasalibandy.fi
SUMMARY:P10 Pelicans SB turkoosi - Hatsina musta
DESCRIPTION:Salpausselkähalli\, Lahti. Linkki tulospalveluun
URL:https://hatsinasalibandy.fi/tapahtuma/p10-pelicans-sb-turkoosi-hatsina-musta/
END:VEVENT
BEGIN:VEVENT
DTSTART;TZID=Europe/Helsinki:20251012T110000
DTEND;TZID=Europe/Helsinki:20251012T123000
DTSTAMP:20260420T220706
CREATED:20250929T153451Z
LAST-MODIFIED:20250929T153452Z
UID:4668-1760266800-1760272200@hatsinasalibandy.fi
SUMMARY:5.divisioona miehet Klubi II - Hatsina II
DESCRIPTION:Vierumäki areena\, linkki tulospalveluun
URL:https://hatsinasalibandy.fi/tapahtuma/5-divisioona-miehet-klubi-ii-hatsina-ii/
END:VEVENT
BEGIN:VEVENT
DTSTART;TZID=Europe/Helsinki:20251012T140000
DTEND;TZID=Europe/Helsinki:20251012T153000
DTSTAMP:20260420T220706
CREATED:20250929T153630Z
LAST-MODIFIED:20250929T153631Z
UID:4670-1760277600-1760283000@hatsinasalibandy.fi
SUMMARY:5.divisioona miehet Hatsina II - JPS-75
DESCRIPTION:Vierumäki areena\, linkki tulospalveluun
URL:https://hatsinasalibandy.fi/tapahtuma/5-divisioona-miehet-hatsina-ii-jps-75/
END:VEVENT
BEGIN:VEVENT
DTSTART;TZID=Europe/Helsinki:20251017T190000
DTEND;TZID=Europe/Helsinki:20251017T210000
DTSTAMP:20260420T220706
CREATED:20251006T120327Z
LAST-MODIFIED:20251006T120327Z
UID:4755-1760727600-1760734800@hatsinasalibandy.fi
SUMMARY:Hatsina - Top Team
DESCRIPTION:Miesten 2-divisioonaa Saimaa Stadiumilla.Miesten edustusjoukkue saa vieraakseen Savonlinnan Top Teamin.Liput: 5€
URL:https://hatsinasalibandy.fi/tapahtuma/hatsina-top-team/
END:VEVENT
BEGIN:VEVENT
DTSTART;TZID=Europe/Helsinki:20251019T100000
DTEND;TZID=Europe/Helsinki:20251019T105000
DTSTAMP:20260420T220706
CREATED:20250929T154511Z
LAST-MODIFIED:20250929T154848Z
UID:4672-1760868000-1760871000@hatsinasalibandy.fi
SUMMARY:P13 Hatsina sininen - Top Team musta
DESCRIPTION:Kotiturnaus Saimaa Stadiumilla\, tervetuloa seuraamaan paikan päälle.  Linkki tulospalveluun
URL:https://hatsinasalibandy.fi/tapahtuma/p13-hatsina-sininen-top-team-musta/
END:VEVENT
BEGIN:VEVENT
DTSTART;TZID=Europe/Helsinki:20251019T160000
DTEND;TZID=Europe/Helsinki:20251019T165000
DTSTAMP:20260420T220706
CREATED:20250929T154741Z
LAST-MODIFIED:20250929T154741Z
UID:4674-1760889600-1760892600@hatsinasalibandy.fi
SUMMARY:P13 Jäppärä - Hatsina sininen
DESCRIPTION:Kotiturnaus Saimaa Stadiumilla\, tervetuloa seuraamaan paikan päälle. Linkki tulospalveluun
URL:https://hatsinasalibandy.fi/tapahtuma/p13-jappara-hatsina-sininen/
END:VEVENT
BEGIN:VEVENT
DTSTART;TZID=Europe/Helsinki:20251023T190000
DTEND;TZID=Europe/Helsinki:20251023T210000
DTSTAMP:20260420T220706
CREATED:20251006T120603Z
LAST-MODIFIED:20251006T120604Z
UID:4758-1761246000-1761253200@hatsinasalibandy.fi
SUMMARY:Hatsina - LA Lightning
DESCRIPTION:Paikallisottelu Saimaa StadiumillaLiput: 5€Tervetuloa kannustamaan Hatsina voittoon.
URL:https://hatsinasalibandy.fi/tapahtuma/hatsina-la-lightning/
END:VEVENT
BEGIN:VEVENT
DTSTART;TZID=Europe/Helsinki:20251025T110000
DTEND;TZID=Europe/Helsinki:20251025T123000
DTSTAMP:20260420T220706
CREATED:20250929T155111Z
LAST-MODIFIED:20250929T155112Z
UID:4676-1761390000-1761395400@hatsinasalibandy.fi
SUMMARY:5. divisioona miehet Hatsina II - Kyljykset II
DESCRIPTION:Iitin ravilinna\, linkki tulospalveluun
URL:https://hatsinasalibandy.fi/tapahtuma/5-divisioona-miehet-hatsina-ii-kyljykset-ii/
END:VEVENT
END:VCALENDAR