BEGIN:VCALENDAR
VERSION:2.0
PRODID:-//Urheiluseura Hatsina ry - ECPv6.15.14//NONSGML v1.0//EN
CALSCALE:GREGORIAN
METHOD:PUBLISH
X-ORIGINAL-URL:https://hatsinasalibandy.fi
X-WR-CALDESC:Tapahtumat Urheiluseura Hatsina ry
REFRESH-INTERVAL;VALUE=DURATION:PT1H
X-Robots-Tag:noindex
X-PUBLISHED-TTL:PT1H
BEGIN:VTIMEZONE
TZID:Europe/Helsinki
BEGIN:DAYLIGHT
TZOFFSETFROM:+0200
TZOFFSETTO:+0300
TZNAME:EEST
DTSTART:20240331T010000
END:DAYLIGHT
BEGIN:STANDARD
TZOFFSETFROM:+0300
TZOFFSETTO:+0200
TZNAME:EET
DTSTART:20241027T010000
END:STANDARD
BEGIN:DAYLIGHT
TZOFFSETFROM:+0200
TZOFFSETTO:+0300
TZNAME:EEST
DTSTART:20250330T010000
END:DAYLIGHT
BEGIN:STANDARD
TZOFFSETFROM:+0300
TZOFFSETTO:+0200
TZNAME:EET
DTSTART:20251026T010000
END:STANDARD
BEGIN:DAYLIGHT
TZOFFSETFROM:+0200
TZOFFSETTO:+0300
TZNAME:EEST
DTSTART:20260329T010000
END:DAYLIGHT
BEGIN:STANDARD
TZOFFSETFROM:+0300
TZOFFSETTO:+0200
TZNAME:EET
DTSTART:20261025T010000
END:STANDARD
BEGIN:DAYLIGHT
TZOFFSETFROM:+0200
TZOFFSETTO:+0300
TZNAME:EEST
DTSTART:20270328T010000
END:DAYLIGHT
BEGIN:STANDARD
TZOFFSETFROM:+0300
TZOFFSETTO:+0200
TZNAME:EET
DTSTART:20271031T010000
END:STANDARD
END:VTIMEZONE
BEGIN:VEVENT
DTSTART;TZID=Europe/Helsinki:20251101T110000
DTEND;TZID=Europe/Helsinki:20251101T230000
DTSTAMP:20260422T142817
CREATED:20250930T140808Z
LAST-MODIFIED:20250930T140809Z
UID:4707-1761994800-1762038000@hatsinasalibandy.fi
SUMMARY:P13 Sudet SB musta Kings - Hatsina sininen
DESCRIPTION:Kuusankoski\, linkki tulopalveluun
URL:https://hatsinasalibandy.fi/tapahtuma/p13-sudet-sb-musta-kings-hatsina-sininen/
END:VEVENT
BEGIN:VEVENT
DTSTART;TZID=Europe/Helsinki:20251101T130000
DTEND;TZID=Europe/Helsinki:20251101T140000
DTSTAMP:20260422T142817
CREATED:20250930T140942Z
LAST-MODIFIED:20250930T140942Z
UID:4709-1762002000-1762005600@hatsinasalibandy.fi
SUMMARY:P13 Hatsina sininen - Kopa jun sininen
DESCRIPTION:Kuusankoski\, linkki tulospalveluun
URL:https://hatsinasalibandy.fi/tapahtuma/p13-hatsina-sininen-kopa-jun-sininen/
END:VEVENT
BEGIN:VEVENT
DTSTART;TZID=Europe/Helsinki:20251108T100000
DTEND;TZID=Europe/Helsinki:20251108T113000
DTSTAMP:20260422T142817
CREATED:20250930T141908Z
LAST-MODIFIED:20250930T141909Z
UID:4711-1762596000-1762601400@hatsinasalibandy.fi
SUMMARY:P16 Hatsina/SB Heinola - Pelicans SB
DESCRIPTION:Kailas-talo Heinola\, linkki tulospalveluun
URL:https://hatsinasalibandy.fi/tapahtuma/p16-hatsina-sb-heinola-pelicans-sb/
END:VEVENT
BEGIN:VEVENT
DTSTART;TZID=Europe/Helsinki:20251108T120000
DTEND;TZID=Europe/Helsinki:20251108T130000
DTSTAMP:20260422T142817
CREATED:20250930T142043Z
LAST-MODIFIED:20250930T142044Z
UID:4713-1762603200-1762606800@hatsinasalibandy.fi
SUMMARY:P14 Hatsina - LASB Jr Valkoinen
DESCRIPTION:Salpausselkähalli Lahti\, linkki tulospalveluun
URL:https://hatsinasalibandy.fi/tapahtuma/p14-hatsina-lasb-jr-valkoinen/
END:VEVENT
BEGIN:VEVENT
DTSTART;TZID=Europe/Helsinki:20251108T150000
DTEND;TZID=Europe/Helsinki:20251108T160000
DTSTAMP:20260422T142817
CREATED:20250930T142237Z
LAST-MODIFIED:20250930T142238Z
UID:4715-1762614000-1762617600@hatsinasalibandy.fi
SUMMARY:P14 SB Heinola valkoinen - Hatsina
DESCRIPTION:Salpausselkähalli Lahti\, linkki tulospalveluun
URL:https://hatsinasalibandy.fi/tapahtuma/p14-sb-heinola-valkoinen-hatsina/
END:VEVENT
BEGIN:VEVENT
DTSTART;TZID=Europe/Helsinki:20251108T170000
DTEND;TZID=Europe/Helsinki:20251108T183000
DTSTAMP:20260422T142817
CREATED:20250930T142423Z
LAST-MODIFIED:20250930T142424Z
UID:4717-1762621200-1762626600@hatsinasalibandy.fi
SUMMARY:P16 MäVi - Hatsina/SB Heinola
DESCRIPTION:Kailas-talo Heinola\, linkki tulospalveluun
URL:https://hatsinasalibandy.fi/tapahtuma/p16-mavi-hatsina-sb-heinola-2/
END:VEVENT
BEGIN:VEVENT
DTSTART;TZID=Europe/Helsinki:20251109T103000
DTEND;TZID=Europe/Helsinki:20251109T111000
DTSTAMP:20260422T142817
CREATED:20250930T142554Z
LAST-MODIFIED:20250930T142555Z
UID:4719-1762684200-1762686600@hatsinasalibandy.fi
SUMMARY:P10 MäVi keltainen - Hatsina musta
DESCRIPTION:Kisala Mäntyharju\, linkki tulospalveluun
URL:https://hatsinasalibandy.fi/tapahtuma/p10-mavi-keltainen-hatsina-musta/
END:VEVENT
BEGIN:VEVENT
DTSTART;TZID=Europe/Helsinki:20251109T115000
DTEND;TZID=Europe/Helsinki:20251109T123000
DTSTAMP:20260422T142817
CREATED:20250930T142736Z
LAST-MODIFIED:20250930T142737Z
UID:4721-1762689000-1762691400@hatsinasalibandy.fi
SUMMARY:P10 MäVi musta - Hatsina sininen
DESCRIPTION:Kisala Mäntyharju\, linkki tulospalveluun
URL:https://hatsinasalibandy.fi/tapahtuma/p10-mavi-musta-hatsina-sininen/
END:VEVENT
BEGIN:VEVENT
DTSTART;TZID=Europe/Helsinki:20251109T123000
DTEND;TZID=Europe/Helsinki:20251109T131000
DTSTAMP:20260422T142817
CREATED:20250930T142924Z
LAST-MODIFIED:20250930T142924Z
UID:4723-1762691400-1762693800@hatsinasalibandy.fi
SUMMARY:P10 Hatsina musta - Kopa jun
DESCRIPTION:Kisala Mäntyharju\, linkki tulospalveluun
URL:https://hatsinasalibandy.fi/tapahtuma/p10-hatsina-musta-kopa-jun-2/
END:VEVENT
BEGIN:VEVENT
DTSTART;TZID=Europe/Helsinki:20251109T131000
DTEND;TZID=Europe/Helsinki:20251109T135000
DTSTAMP:20260422T142817
CREATED:20250930T143131Z
LAST-MODIFIED:20250930T143132Z
UID:4726-1762693800-1762696200@hatsinasalibandy.fi
SUMMARY:P10 Hatsina musta - SB Heinola
DESCRIPTION:Kisala Mäntyharju\, linkki tulospalveluun
URL:https://hatsinasalibandy.fi/tapahtuma/p10-hatsina-musta-sb-heinola/
END:VEVENT
BEGIN:VEVENT
DTSTART;TZID=Europe/Helsinki:20251109T135000
DTEND;TZID=Europe/Helsinki:20251109T143000
DTSTAMP:20260422T142817
CREATED:20250930T143301Z
LAST-MODIFIED:20250930T143302Z
UID:4728-1762696200-1762698600@hatsinasalibandy.fi
SUMMARY:P10 Hatsina sininen - LASB Jr Valkoinen
DESCRIPTION:Kisala Mäntyharju\, linkki tulospalveluun
URL:https://hatsinasalibandy.fi/tapahtuma/p10-hatsina-sininen-lasb-jr-valkoinen/
END:VEVENT
BEGIN:VEVENT
DTSTART;TZID=Europe/Helsinki:20251115T110000
DTEND;TZID=Europe/Helsinki:20251115T123000
DTSTAMP:20260422T142817
CREATED:20250930T143517Z
LAST-MODIFIED:20250930T143518Z
UID:4730-1763204400-1763209800@hatsinasalibandy.fi
SUMMARY:5.divisioona miehet Bengals II - Hatsina II
DESCRIPTION:Sysmän Päijänne Areena\, linkki tulospalveluun
URL:https://hatsinasalibandy.fi/tapahtuma/5-divisioona-miehet-bengals-ii-hatsina-ii/
END:VEVENT
BEGIN:VEVENT
DTSTART;TZID=Europe/Helsinki:20251115T133000
DTEND;TZID=Europe/Helsinki:20251115T150000
DTSTAMP:20260422T142817
CREATED:20250930T143711Z
LAST-MODIFIED:20250930T143712Z
UID:4732-1763213400-1763218800@hatsinasalibandy.fi
SUMMARY:5.divisioona miehet Hatsina II - BB-88 II
DESCRIPTION:Sysmän Päijänne Areena\, linkki tulospalveluun
URL:https://hatsinasalibandy.fi/tapahtuma/5-divisioona-miehet-hatsina-ii-bb-88-ii/
END:VEVENT
BEGIN:VEVENT
DTSTART;TZID=Europe/Helsinki:20251116T140000
DTEND;TZID=Europe/Helsinki:20251116T150000
DTSTAMP:20260422T142817
CREATED:20250930T143951Z
LAST-MODIFIED:20250930T143952Z
UID:4734-1763301600-1763305200@hatsinasalibandy.fi
SUMMARY:P13 Sudet SB musta Stars - Hatsina sininen
DESCRIPTION:Salpausselkähalli Lahti\, linkki tulospalveluun
URL:https://hatsinasalibandy.fi/tapahtuma/p13-sudet-sb-musta-stars-hatsina-sininen/
END:VEVENT
BEGIN:VEVENT
DTSTART;TZID=Europe/Helsinki:20251116T140000
DTEND;TZID=Europe/Helsinki:20251116T160000
DTSTAMP:20260422T142817
CREATED:20251110T083124Z
LAST-MODIFIED:20251110T083125Z
UID:4781-1763301600-1763308800@hatsinasalibandy.fi
SUMMARY:Hatsina - Jäppärä
DESCRIPTION:Järvelän Jäppärä saapuu Saimaa Stadiumille.Liput: 5€Tervetuloa kannustamaan Hatsina voittoon.
URL:https://hatsinasalibandy.fi/tapahtuma/hatsina-jappara/
END:VEVENT
BEGIN:VEVENT
DTSTART;TZID=Europe/Helsinki:20251116T160000
DTEND;TZID=Europe/Helsinki:20251116T170000
DTSTAMP:20260422T142817
CREATED:20250930T144145Z
LAST-MODIFIED:20250930T144146Z
UID:4736-1763308800-1763312400@hatsinasalibandy.fi
SUMMARY:P13 Hatsina sininen - Pelicans SB musta
DESCRIPTION:Salpausselkähalli Lahti\, linkki tulospalveluun
URL:https://hatsinasalibandy.fi/tapahtuma/p13-hatsina-sininen-pelicans-sb-musta/
END:VEVENT
BEGIN:VEVENT
DTSTART;TZID=Europe/Helsinki:20251123T100000
DTEND;TZID=Europe/Helsinki:20251123T113000
DTSTAMP:20260422T142817
CREATED:20250930T144335Z
LAST-MODIFIED:20250930T144335Z
UID:4738-1763892000-1763897400@hatsinasalibandy.fi
SUMMARY:P16 Flanels - Hatsina/SB Heinola
DESCRIPTION:Joutsan liikuntahalli\, linkki tulospalveluun
URL:https://hatsinasalibandy.fi/tapahtuma/p16-flanels-hatsina-sb-heinola/
END:VEVENT
BEGIN:VEVENT
DTSTART;TZID=Europe/Helsinki:20251123T130000
DTEND;TZID=Europe/Helsinki:20251123T140000
DTSTAMP:20260422T142817
CREATED:20250930T144528Z
LAST-MODIFIED:20250930T144529Z
UID:4740-1763902800-1763906400@hatsinasalibandy.fi
SUMMARY:P16 Hatsina/SB Heinola - O2JKL II
DESCRIPTION:Joutsan liikuntahalli\, linkki tulospalveluun
URL:https://hatsinasalibandy.fi/tapahtuma/p16-hatsina-sb-heinola-o2jkl-ii/
END:VEVENT
BEGIN:VEVENT
DTSTART;TZID=Europe/Helsinki:20251129T103000
DTEND;TZID=Europe/Helsinki:20251129T111000
DTSTAMP:20260422T142817
CREATED:20250930T144715Z
LAST-MODIFIED:20250930T144715Z
UID:4742-1764412200-1764414600@hatsinasalibandy.fi
SUMMARY:P10 SaiPa Musta P9 - Hatsina musta
DESCRIPTION:Joutsenohalli Lappeenranta\, linkki tulospalveluun
URL:https://hatsinasalibandy.fi/tapahtuma/p10-saipa-musta-p9-hatsina-musta/
END:VEVENT
BEGIN:VEVENT
DTSTART;TZID=Europe/Helsinki:20251129T111000
DTEND;TZID=Europe/Helsinki:20251129T115000
DTSTAMP:20260422T142817
CREATED:20250930T144858Z
LAST-MODIFIED:20250930T144859Z
UID:4744-1764414600-1764417000@hatsinasalibandy.fi
SUMMARY:P10 Sudet SB musta - Hatsina sininen
DESCRIPTION:Joutsenohalli Lappeenranta\, linkki tulospalveluun
URL:https://hatsinasalibandy.fi/tapahtuma/p10-sudet-sb-musta-hatsina-sininen/
END:VEVENT
BEGIN:VEVENT
DTSTART;TZID=Europe/Helsinki:20251129T123000
DTEND;TZID=Europe/Helsinki:20251129T131000
DTSTAMP:20260422T142817
CREATED:20250930T145045Z
LAST-MODIFIED:20250930T145046Z
UID:4746-1764419400-1764421800@hatsinasalibandy.fi
SUMMARY:P10 Kopa jun - Hatsina sininen
DESCRIPTION:Joutsenohalli Lappeenranta\, linkki tulospalveluun
URL:https://hatsinasalibandy.fi/tapahtuma/p10-kopa-jun-hatsina-sininen/
END:VEVENT
BEGIN:VEVENT
DTSTART;TZID=Europe/Helsinki:20251129T123000
DTEND;TZID=Europe/Helsinki:20251129T131000
DTSTAMP:20260422T142817
CREATED:20250930T145239Z
LAST-MODIFIED:20250930T145240Z
UID:4748-1764419400-1764421800@hatsinasalibandy.fi
SUMMARY:P10 Hatsina musta - Sudet SB punainen
DESCRIPTION:Joutsenohalli Lappeenranta\, linkki tulospalveluun
URL:https://hatsinasalibandy.fi/tapahtuma/p10-hatsina-musta-sudet-sb-punainen/
END:VEVENT
BEGIN:VEVENT
DTSTART;TZID=Europe/Helsinki:20251207T140000
DTEND;TZID=Europe/Helsinki:20251207T160000
DTSTAMP:20260422T142817
CREATED:20251204T112225Z
LAST-MODIFIED:20251204T112226Z
UID:4824-1765116000-1765123200@hatsinasalibandy.fi
SUMMARY:Hatsina - Sudet SB
DESCRIPTION:Pikkujoulutu Saimaa Stadiumilla. \n\n\n\nHatsina – Sudet SB – Miehet 2-divisioonaOtteluisäntänä: Panco Villa \n\n\n\n\nottelussa jaossa Pancho-rahaa\, eli etukuponkeja ravintolaan (5€/kpl)\n\n\n\nPancho Villa palkitsee ottelun nälkäisimmän pelaajan 25€ lahjakortilla\n\n\n\njouluteemaan tai seura-asuun pukeutuneille glögi & piparitarjoilu\n\n\n\nseuran pelaajan mukana yksi aikuinen veloituksetta otteluun\n\n\n\nkinkkuarvonta katsojien kesken (lahjoittaja RBR-Tieisännöinti)\n\n\n\n1. erätauolla P10 junioreiden näytösottelu
URL:https://hatsinasalibandy.fi/tapahtuma/hatsina-sudet-sb/
END:VEVENT
BEGIN:VEVENT
DTSTART;TZID=Europe/Helsinki:20260117T140000
DTEND;TZID=Europe/Helsinki:20260117T160000
DTSTAMP:20260422T142817
CREATED:20260112T105858Z
LAST-MODIFIED:20260112T105859Z
UID:4841-1768658400-1768665600@hatsinasalibandy.fi
SUMMARY:Hatsina - SB Heinola
DESCRIPTION:Miehet 2-divisioona.Saimaa Stadiumi \n\n\n\nLiput: 5€
URL:https://hatsinasalibandy.fi/tapahtuma/hatsina-sb-heinola/
END:VEVENT
END:VCALENDAR